BEGIN:VCALENDAR
VERSION:2.0
PRODID:-//Ritam Healing Arts - ECPv6.15.20//NONSGML v1.0//EN
CALSCALE:GREGORIAN
METHOD:PUBLISH
X-WR-CALNAME:Ritam Healing Arts
X-ORIGINAL-URL:https://ritamhealingarts.com
X-WR-CALDESC:Events for Ritam Healing Arts
REFRESH-INTERVAL;VALUE=DURATION:PT1H
X-Robots-Tag:noindex
X-PUBLISHED-TTL:PT1H
BEGIN:VTIMEZONE
TZID:America/Los_Angeles
BEGIN:DAYLIGHT
TZOFFSETFROM:-0800
TZOFFSETTO:-0700
TZNAME:PDT
DTSTART:20160313T100000
END:DAYLIGHT
BEGIN:STANDARD
TZOFFSETFROM:-0700
TZOFFSETTO:-0800
TZNAME:PST
DTSTART:20161106T090000
END:STANDARD
BEGIN:DAYLIGHT
TZOFFSETFROM:-0800
TZOFFSETTO:-0700
TZNAME:PDT
DTSTART:20170312T100000
END:DAYLIGHT
BEGIN:STANDARD
TZOFFSETFROM:-0700
TZOFFSETTO:-0800
TZNAME:PST
DTSTART:20171105T090000
END:STANDARD
BEGIN:DAYLIGHT
TZOFFSETFROM:-0800
TZOFFSETTO:-0700
TZNAME:PDT
DTSTART:20180311T100000
END:DAYLIGHT
BEGIN:STANDARD
TZOFFSETFROM:-0700
TZOFFSETTO:-0800
TZNAME:PST
DTSTART:20181104T090000
END:STANDARD
BEGIN:DAYLIGHT
TZOFFSETFROM:-0800
TZOFFSETTO:-0700
TZNAME:PDT
DTSTART:20190310T100000
END:DAYLIGHT
BEGIN:STANDARD
TZOFFSETFROM:-0700
TZOFFSETTO:-0800
TZNAME:PST
DTSTART:20191103T090000
END:STANDARD
BEGIN:DAYLIGHT
TZOFFSETFROM:-0800
TZOFFSETTO:-0700
TZNAME:PDT
DTSTART:20200308T100000
END:DAYLIGHT
BEGIN:STANDARD
TZOFFSETFROM:-0700
TZOFFSETTO:-0800
TZNAME:PST
DTSTART:20201101T090000
END:STANDARD
BEGIN:DAYLIGHT
TZOFFSETFROM:-0800
TZOFFSETTO:-0700
TZNAME:PDT
DTSTART:20210314T100000
END:DAYLIGHT
BEGIN:STANDARD
TZOFFSETFROM:-0700
TZOFFSETTO:-0800
TZNAME:PST
DTSTART:20211107T090000
END:STANDARD
END:VTIMEZONE
BEGIN:VEVENT
DTSTART;VALUE=DATE:20200519
DTEND;VALUE=DATE:20200528
DTSTAMP:20260419T121230
CREATED:20200228T024206Z
LAST-MODIFIED:20200228T024347Z
UID:41357-1589846400-1590623999@ritamhealingarts.com
SUMMARY:Atma Yoga Teacher Training
DESCRIPTION:Atma Yoga Teacher Training\nMay 19 – 27\, 2020\nOjai\, CA\n  \nThe next module of the Atma Yoga Teacher Training will be May 19 -27 in the sweet town of Ojai\, CA. This module will be a non-residential training held at studios around Ojai.\n\nWe will help you to arrange roommates and coordinate details\, etc.\n\nOjai which means ‘moon’ or nesting place has a history of healing and spiritual power for 1000’s of years. I have been living\, teaching and visiting here for over 20 years. It is a special place and I look forward to sharing it with you.\n\nThe training sessions and classes will be held a two wonderful local yoga studios.\nWe will have access to many special places in the valley for some off-site experiences as well.\nWe hosted out Trainings from 2012 to 2018 and everyone fell in love with Ojai.\n\nOjai is also easy to reach from LAX via car or shuttle and there are so many amazing things to do in Ojai such as hot springs and amazing hikes as well as wonderful restaurants and health food stores and sweet little town.\n\nThe town is small and it is easy to get around. You can also do bike rentals\, etc. We will send more info soon.\n\nSpace is limited.\nA non-refundable\, transferrable deposit of $500 is due upon registration. If you need to cancel\, there is a $100 administrative fee the would be deducted from the deposit/tuition payment.\n\nPricing Notes \n \nThe training is $1450 for the 9 days and will include all classes and programs\, teaching materials and group dinner on the last evening! (and morning and afternoon tea :)\n• Shared room at one of the really cute local hotels will be about $50 / night and on up ( this is cheaper than retreat center pricing by $30 a night).\n•  Food – There are many wonderful\, local places to eat with a great range of prices from about $20 a day on up. Those on a budget will be able to save money on accommodations and food.\n• Transport – We will help arrange a shuttle from Lax to Ojai. Usually about $40 per person each way. You do not need to rent a car\, we will arrange group transport for group excursions. But if you rent a car or drive yourself\, it is a bonus to have a car to visit the valley in your spare time. There are also bicycles available and Ojai is a great walking town with all our classes in the village.
URL:https://ritamhealingarts.com/event/atma-yoga-teacher-training/
CATEGORIES:200 Hour,300 Hour,Atma Yoga
ATTACH;FMTTYPE=image/jpeg:https://ritamhealingarts.com/wp-content/uploads/2016/04/TOT_0805_asana_heart-open-copy.jpg
END:VEVENT
BEGIN:VEVENT
DTSTART;VALUE=DATE:20200115
DTEND;VALUE=DATE:20200116
DTSTAMP:20260419T121230
CREATED:20191205T230819Z
LAST-MODIFIED:20200115T233741Z
UID:41047-1579046400-1579132799@ritamhealingarts.com
SUMMARY:Atma Yoga Teacher Training Immersion ~ Prana Soma Soul ~ May 2020
DESCRIPTION:9 day Immersion for teachers and students of yoga wishing to deepen their practice in the study of heart/breath/soul centered yoga. Teachings rooted in Ayurveda\, Hatha\, Tantra & Bhakti schools and incorporating healing somatic principles and exercises in a non-competitive and life-affirming approach. The emphasis is on self-practice\, self knowledge for ones own experience and over time to learn to share (teach) others on the path.\nFoundation module in both 200 & 300 hour programs.\nPrana\, Soma and Soul are key teachings within the understanding and practice of Yoga.\nPrana is the life force or current and it is all pervading\, it is the energy of the Universe. It is most concentrated in our breath and therefore also relates to our breathing.\nSoma is the esseence of rejuvenation\, it is the fluid nature of water\, of life and where we derive the word ‘Somatic or somatics’. It is eseential to health and rejuvenation.\nSoul or Atma in sanskrit\, is perhaps one of the most important concepts to understand in Yoga. It is the essence of our being\, our deeper nature and yoga since its inception is a soul based and soul centered practice which connects us back to the ‘Source’ of our being.\nWe will integrate yogic and tantra teachings with somatic work and Ayurveda into our practice\, teaching and being.\nWe will also take time to be in nature and soak in the healing waters of California hot springs.\nA week of yoga\, transformational teachings\, music\, chanting held within the container of practice and community. \n \nCourse Includes\n• Yoga Science of the Soul / Embodied Holistic Approach to Yoga + Life\n• Prana Vidya ( Science of Prana) / Essential teaching for Yogi’s\n• Soma based practices as the Essence of the Rejuvenation\n• Asana\, Pranayama\, Mudra\, Bandha + Dhyana as an integrated process\n• Somatics within yoga & Somatic yoga exercises + practices\n• Daily Meditation practice – Vedic + Tantric + Somatic based Meditation practices\n• Developing intuition & healing presence\n• Holistic Adjustments / Physical + Energetic Alignment in Asana\n• Bhakti Yoga: The Path of the Heart. Mantras + Chants for Healing\n• Holistic Sequencing + Practices for healing\, reflection + awakening\n• Asana as EMBODIED Tantra\n• Restorative Yoga for Rejuvenation\n• Ananda Rasa: Cultivating the path of joy + bliss\n• Atma Vichara – Yoga as the process of Soul Inquiry\n• Pancha Maha-Bhoutas – 5 Elements for healing and rejuvenation\n• Practice Teaching / Assisting as a practice of bhakti (devotion) + seva ( service) \n$400 Deposit needed to hold space. Varied pricing dependent on accommodations. Please email Natalie at ritamhealingarts@gmail.com for more information on pricing and details.
URL:https://ritamhealingarts.com/event/atma-yoga-teacher-training-immersion-prana-soma-soul/
CATEGORIES:200 Hour,300 Hour,Atma Yoga
END:VEVENT
BEGIN:VEVENT
DTSTART;VALUE=DATE:20190514
DTEND;VALUE=DATE:20190522
DTSTAMP:20260419T121230
CREATED:20190311T183646Z
LAST-MODIFIED:20190420T034651Z
UID:38160-1557792000-1558483199@ritamhealingarts.com
SUMMARY:Prana\, Soma & Soul: Teacher + Practitioner Immersion Training
DESCRIPTION:May 14-21\, 2019\nVedanta Spiritual Retreat Center\, California Hot Springs \nRe-inspire your Practice & Teaching!\n80+  Hour Atma Yoga Immersion Training + Retreat \nwith Saul David Raye \nand special guest teachers Kristin English & Deepak Swarup\n \n\n8 day Immersion for teachers and students of yoga wishing to deepen their practice in the study of heart/breath/soul centered yoga. Teachings rooted in Ayurveda\, Hatha\, Tantra & Bhakti schools and incorporating healing somatic principles and exercises in a non-competitive and life-affirming approach. The emphasis is on self-practice\, self knowledge for ones own experience and over time to learn to share (teach) others on the path. \nFoundation module in both 200 & 300 hour programs. \n\nPrana\, Soma and Soul are key teachings within the understanding and practice of Yoga. \nPrana is the life force or current and it is all pervading\, it is the energy of the Universe. It is most concentrated in our breath and therefore also relates to our breathing. \nSoma is the esseence of rejuvenation\, it is the fluid nature of water\, of life and where we derive the word ‘Somatic or somatics’. It is eseential to health and rejuvenation. \nSoul or Atma in sanskrit\, is perhaps one of the most important concepts to understand in Yoga. It is the essence of our being\, our deeper nature and yoga since its inception is a soul based and soul centered practice which connects us back to the ‘Source’ of our being. \nWe will integrate yogic and tantra teachings with somatic work and Ayurveda into our practice\, teaching and being.\nWe will also take time to be in nature and soak in the healing waters of California hot springs.\nA week of yoga\, transformational teachings\, music\, chanting held within the container of practice and community. \n  \n \nCourse Includes\n• Yoga Science of the Soul / Embodied Holistic Approach to Yoga + Life \n• Prana Vidya ( Science of Prana) / Essential teaching for Yogi’s \n• Soma based practices as the Essence of the Rejuvenation \n• Asana\, Pranayama\, Mudra\, Bandha + Dhyana as an integrated process \n• Somatics within yoga & Somatic yoga exercises + practices \n• Daily Meditation practice – Vedic + Tantric + Somatic based Meditation practices \n• Developing intuition & healing presence \n• Holistic Adjustments / Physical + Energetic Alignment in Asana \n• Bhakti Yoga: The Path of the Heart. Mantras + Chants for Healing \n• Holistic Sequencing + Practices for healing\, reflection + awakening \n• Asana as EMBODIED Tantra \n• Restorative Yoga for Rejuvenation \n• Ananda Rasa: Cultivating the path of joy + bliss \n• Atma Vichara – Yoga as the process of Soul Inquiry \n• Pancha Maha-Bhoutas – 5 Elements for healing and rejuvenation \n• Practice Teaching / Assisting as a practice of bhakti (devotion) + seva ( service) \n \nCost \n• $1800 – Shared Room / early bird\n• $1500 – Camping\n• Deposit $500\n• Payment plans are available. Please contact the office ritamhealingarts@gmail.com. \n\n\n \n\n\nAccommodations includes 2.9% Paypal Fee\n\n\nShared Room $1\,852.00 USDCamping $1\,543.00 USD
URL:https://ritamhealingarts.com/event/prana-soma-soul-teacher-practitioner-immersion-training-program/
LOCATION:vshr.org\, California Hot Springs\, CA\, United States
CATEGORIES:200 Hour,300 Hour,Atma Yoga
ATTACH;FMTTYPE=image/png:https://ritamhealingarts.com/wp-content/uploads/2019/03/IMG_5279.png
END:VEVENT
BEGIN:VEVENT
DTSTART;TZID=America/Los_Angeles:20170827T104500
DTEND;TZID=America/Los_Angeles:20170827T190000
DTSTAMP:20260419T121230
CREATED:20170629T153159Z
LAST-MODIFIED:20170629T153159Z
UID:23476-1503830700-1503860400@ritamhealingarts.com
SUMMARY:Atma Yoga Soul Immersion & Teacher Training Program Inner Fire: Transformation + Integration
DESCRIPTION:Join us for 9 days of inner transformation\, inspired learning\, growth and community at the new Mandala Center in Santa Monica\, California. These modules are a deep dive into holistic\, heart and soul-centered yoga & meditation as we deepen in Sadhana (practice) and sangha community. \nAgni or Fire is the middle element\, the element of transformation. When the fire is is strong and in harmony we experience a radiance\, a clarity\, good health ( digestion) and passion in the direction of our soul’s growth. In this module we will explore sacred fire on all levels of being to light the lamp within the body\, mind\, heart and soul. We will explore all the elements through Yoga\, Meditation\, Ayurveda and the sacred fire of devotion as a path to transformation and integration\, while refining the foundational practices for practicing and teaching yoga. \nThis module of the Atma Yoga SOUL Immersion & Holistic Yoga 200 hour teacher training is open to all teachers and dedicated students who wish to deepen their practice and experience of holistic heart centered yoga. This module is an integration module and can be both part of the 200 + 300 hour programs. \nThis training is open to all levels of students. One year minimum of yoga practice is recommended. \nThere are 25 spaces are available for this program. \nTuition for the training is:\n– $1\,108.00 (Paid in Full)\n– $1350.00  (Payment plan)\n$500 Deposit – ( Deposit is transferable / non- refundable)\nPrice includes manual\, all classes\, training sessions and unlimited yoga (during the training). \nPlease email Natalie@mandalacenter.us for more information and for an application to register\, or speak directly to Saul at Mandala. Once approved\, we will send you details and schedule for the training. \nThe training will be held at Mandala as well as at a private location near the studio. We will also have visits to the beach and the mountains nearby. Training will begin at 10:45 am on Sunday\, August 27th and conclude in the late afternoon on Monday\, Sept 4th with a group celebration. \nTopics Covered:\n• Science of the Soul – Yoga holistic model for healing\, peace and conscious evolution\n• Dynamic Healing Yoga – Asana\, Kriya\, Pranayama\, Mudra\, Bhanda\n• Yogic breathing\, essential postures & meditation for health & longevity\n• Asana – action\, alignment & energy\n• Power of Touch – healing hands on adjustments\n• The Wisdom of Life – an introduction to Ayurveda\n• Anatomy\, Physiology and Spinal Health – level 1\n• Nada and Bhakti Yoga – healing chants & mantras\n• Sankalpa – the power of intention\n• Sangha – support & importance of community\n• Dharma – the root of yoga\n• Understanding & Healing Common Injuries & Misalignments\n• Sacred Wisdom – the philosophy of Yoga\, Tantra\, Bhakti and Universal Love\n• River of Yoga – understanding the history\, flow and evolution of Yoga\n• Props – how to effectively use props in a class\n• Yoga’s Holistic Process for Healing\, Peace and Spiritual Awakening\n• Holistic Anatomy – Physical\, Energetic\, Emotional and Spiritual\n• Beginning Yoga poses to awaken stability and breath\n• Intermediate / Advanced Asanas & Pranayamas to stoke the fire\n• Meditation – awakening the Spirit\n• Holistic Sequencing – form\, movement\, energetics and intention\n• Effective teaching skills and Universal Ethics\n• Practice Teaching and Sharing Yoga\n• The Art of teaching Yoga and Guiding Students from the Heart\n• Cultivating Prana\, Tejas and Ojas – secrets of a radiant body\, mind and soul\n• Daily Healing Rituals through Yoga\, Ayurveda & Tantra\n• Spiritual Fire and Food – yogic diet and nutrition\n• Agni Yoga and Ayurveda – tending the Inner Fire\n• Bhakti Yoga – devotional (Fire) yoga\n• Healing Mantras\, Chants and Prayers to awaken inner light\n• Connecting to Source – Authentic Practice & Teaching
URL:https://ritamhealingarts.com/event/atma-yoga-soul-immersion-teacher-training-program-inner-fire-transformation-integration/
LOCATION:Mandala\, 719 Broadway\, Santa Monica\, CA\, 90401\, United States
CATEGORIES:200 Hour,300 Hour,Atma Yoga
ATTACH;FMTTYPE=image/jpeg:https://ritamhealingarts.com/wp-content/uploads/2016/03/TTatma.jpg
END:VEVENT
BEGIN:VEVENT
DTSTART;VALUE=DATE:20170827
DTEND;VALUE=DATE:20170905
DTSTAMP:20260419T121230
CREATED:20170831T023303Z
LAST-MODIFIED:20170831T023412Z
UID:26533-1503792000-1504569599@ritamhealingarts.com
SUMMARY:Atma Soul Immersion and Teacher Training Program - 100 Hour Module Inner Fire : Transformation & Integration
DESCRIPTION:Join us for 9 days of inner transformation\, inspired learning\, growth and community at the new Mandala Center in Santa Monica\, Ca. These modules are a deep dive into holistic\, heart/soul centered yoga & meditation as we deepen in Sadhana (practice) and Sangha Community.\nAgni or Fire is the middle element\, the element of transformation. When the fire is is strong and in harmony we experience a radiance\, a clarity\, good health ( digestion) and passion in the direction of our soul’s growth. In this module we will explore sacred fire on all levels of being to light the lamp within the body\, mind\, heart and soul. We will explore all the elements through Yoga\, Meditation\, Ayurveda and the sacred fire of devotion as a path to transformation and integration\, while refining the foundational practices for practicing and teaching yoga. \nThis module of the Atma Yoga SOUL Immersion & Holistic Yoga 200 hour teacher training is open to all teachers and dedicated students who wish to deepen their practice and experience of holistic heart centered yoga. This module is an integration module and can be both part of the 200 + 300 hour programs.\nThis training is open to all levels of students. One year minimum of yoga practice is recommended.\nSimple application process. \nThere are about 25 spaces are available for this program. All levels are welcome.\nTuition for the training is:\n– $1\,108.00 ( Paid in Full) \n– $1350 ( Payment plan) \n– $500 Deposit – ( Deposit is transferable / non- refundable) \nPrice includes Manual and all classes and training sessions and unlimited yoga during the training. \nPlease email Natalie@mandalacenter.us for more information \nTo register please fill out the simple application from or speak with Saul directly in class. \nOnce approved you can register online or you can call 323 418-2862 \nThe training will be held at Mandala Yoga and a private location near the studio as well as visits to the beach and the mountains. Training will begin at 10:45 am on Sunday August 27th and conclude in the late afternoon on Monday Sept 4th with a group celebration. Full schedule will be given to all attendees after registration. \nFor more information http://mandalacenter.us/teacher-training/.
URL:https://ritamhealingarts.com/event/atma-soul-immersion-teacher-training-program/
LOCATION:Mandala\, 719 Broadway\, Santa Monica\, CA\, 90401\, United States
CATEGORIES:200 Hour,300 Hour,Atma Yoga,Events
ATTACH;FMTTYPE=image/jpeg:https://ritamhealingarts.com/wp-content/uploads/2016/04/TOT_0805_asana_heart-open-copy.jpg
END:VEVENT
END:VCALENDAR